BEGIN:VCALENDAR
PRODID:-//Ben Fortuna//iCal4j 1.0//EN
VERSION:2.0
CALSCALE:GREGORIAN
BEGIN:VTIMEZONE
TZID:Europe/Berlin
LAST-MODIFIED:20201010T011803Z
TZURL:http://tzurl.org/zoneinfo/Europe/Berlin
X-LIC-LOCATION:Europe/Berlin
X-PROLEPTIC-TZNAME:LMT
BEGIN:STANDARD
TZNAME:CET
TZOFFSETFROM:+005328
TZOFFSETTO:+0100
DTSTART:18930401T000000
END:STANDARD
BEGIN:DAYLIGHT
TZNAME:CEST
TZOFFSETFROM:+0100
TZOFFSETTO:+0200
DTSTART:19160430T230000
RDATE:19400401T020000
RDATE:19430329T020000
RDATE:19460414T020000
RDATE:19470406T030000
RDATE:19480418T020000
RDATE:19490410T020000
RDATE:19800406T020000
END:DAYLIGHT
BEGIN:STANDARD
TZNAME:CET
TZOFFSETFROM:+0200
TZOFFSETTO:+0100
DTSTART:19161001T010000
RDATE:19421102T030000
RDATE:19431004T030000
RDATE:19441002T030000
RDATE:19451118T030000
RDATE:19461007T030000
END:STANDARD
BEGIN:DAYLIGHT
TZNAME:CEST
TZOFFSETFROM:+0100
TZOFFSETTO:+0200
DTSTART:19170416T020000
RRULE:FREQ=YEARLY;UNTIL=19180415T010000Z;BYMONTH=4;BYDAY=3MO
END:DAYLIGHT
BEGIN:STANDARD
TZNAME:CET
TZOFFSETFROM:+0200
TZOFFSETTO:+0100
DTSTART:19170917T030000
RRULE:FREQ=YEARLY;UNTIL=19180916T010000Z;BYMONTH=9;BYDAY=3MO
END:STANDARD
BEGIN:DAYLIGHT
TZNAME:CEST
TZOFFSETFROM:+0100
TZOFFSETTO:+0200
DTSTART:19440403T020000
RRULE:FREQ=YEARLY;UNTIL=19450402T010000Z;BYMONTH=4;BYDAY=1MO
END:DAYLIGHT
BEGIN:DAYLIGHT
TZNAME:CEMT
TZOFFSETFROM:+0200
TZOFFSETTO:+0300
DTSTART:19450524T020000
RDATE:19470511T030000
END:DAYLIGHT
BEGIN:DAYLIGHT
TZNAME:CEST
TZOFFSETFROM:+0300
TZOFFSETTO:+0200
DTSTART:19450924T030000
RDATE:19470629T030000
END:DAYLIGHT
BEGIN:STANDARD
TZNAME:CET
TZOFFSETFROM:+0100
TZOFFSETTO:+0100
DTSTART:19460101T000000
RDATE:19800101T000000
END:STANDARD
BEGIN:STANDARD
TZNAME:CET
TZOFFSETFROM:+0200
TZOFFSETTO:+0100
DTSTART:19471005T030000
RRULE:FREQ=YEARLY;UNTIL=19491002T010000Z;BYMONTH=10;BYDAY=1SU
END:STANDARD
BEGIN:STANDARD
TZNAME:CET
TZOFFSETFROM:+0200
TZOFFSETTO:+0100
DTSTART:19800928T030000
RRULE:FREQ=YEARLY;UNTIL=19950924T010000Z;BYMONTH=9;BYDAY=-1SU
END:STANDARD
BEGIN:DAYLIGHT
TZNAME:CEST
TZOFFSETFROM:+0100
TZOFFSETTO:+0200
DTSTART:19810329T020000
RRULE:FREQ=YEARLY;BYMONTH=3;BYDAY=-1SU
END:DAYLIGHT
BEGIN:STANDARD
TZNAME:CET
TZOFFSETFROM:+0200
TZOFFSETTO:+0100
DTSTART:19961027T030000
RRULE:FREQ=YEARLY;BYMONTH=10;BYDAY=-1SU
END:STANDARD
END:VTIMEZONE
BEGIN:VEVENT
DTSTAMP:20260419T114334Z
DTSTART;TZID=Europe/Berlin:20260504T090000
DTEND;TZID=Europe/Berlin:20260504T100000
SUMMARY:\,\,Trittsicher in die Zukunft\" Körperliches Training zur Sturzp
 rävention
CREATED:20260417T075340Z
LAST-MODIFIED:20260417T075646Z
DESCRIPTION:„Trittsicher in die Zukunft\" ist ein flächendeckendes Angebo
 t von analogen Bewegungskursen für Seniorinnen und Senioren ab 65 Jahren
 . Das Programm richtet sich an Personen\, die im eigenen Haushalt leben 
 und mit oder ohne Gehilfe gehfähig sind. Der Kurs fördert die körperlich
 e Fitness\, verbessert das Gleichgewicht und den Muskelaufbau. Dadurch s
 ollen Stürze möglichst vermieden und die Selbstständigkeit\, wie auch di
 e Unabhängigkeit im Alter erhalten bleiben. Ein „Trittsicher''-Bewegungs
 kurs wird nun zum zweiten Mal in der Begegnungsstätte der Kreisstadt Hep
 penheim mit 9 Kursstunden angeboten.Durchgeführt wird der Kurs von einer
  speziell geschulten Kursleitung. Bei Interesse an der Kurs-Teilnahme un
 d zur Anmeldung steht Ihnen die Kursleiterin Waltraud Megerle unter 0625
 2/913097 - E-Mail: rain .megerle@t-online.de - zur Verfügung. Kursteilne
 hmer\, die bereits am 1. studienbegleitenden Kurs teilgenommen haben bzw
 . sich angemeldet hatten\, können an diesem Kurs nicht teilnehmen. Das P
 rogramm wird von der Sozialversicherung für Landwirtschaft\, Forsten und
 \n\nGartenbau (SVLFG) in Zusammenarbeit mit dem Deutschen Städte- und Ge
 meindebund sowie dem Robert-Bosch-Krankenhaus angeboten. \,\,Trittsicher
  in die Zukunft\" stellt ein kostenloses\, auf die Altersgruppe maßgesch
 neidertes Angebot dar und wird in Zusammenarbeit mit dem Turnverein Hepp
 enheim e.V. angeboten.
LOCATION:K2
X-LOCATION-NAME:K2
X-STREET-ADDRESS:Karlstraße 2
X-POSTAL-CODE:64646
X-LOCALITY:Heppenheim
X-ROOM-NUMBER:K2 (1.OG)
ORGANIZER;CN=Waltraud Megerle:mailto:rain.megerle@t-online.de
X-ORGANIZER-NAME:Waltraud Megerle
X-ORGANIZER-EMAIL:rain.megerle@t-online.de
X-ORGANIZER-TELEPHONE:06252 913097
UID:339732d9-a7aa-4d89-b7d9-0a2a47fd3bd5
END:VEVENT
END:VCALENDAR
