BEGIN:VCALENDAR
PRODID:-//IONAS//TVM//DE
VERSION:2.0
CALSCALE:GREGORIAN
BEGIN:VTIMEZONE
TZID:Europe/Berlin
LAST-MODIFIED:20201010T011803Z
TZURL:http://tzurl.org/zoneinfo/Europe/Berlin
X-LIC-LOCATION:Europe/Berlin
X-PROLEPTIC-TZNAME:LMT
BEGIN:STANDARD
TZNAME:CET
TZOFFSETFROM:+005328
TZOFFSETTO:+0100
DTSTART:18930401T000000
END:STANDARD
BEGIN:DAYLIGHT
TZNAME:CEST
TZOFFSETFROM:+0100
TZOFFSETTO:+0200
DTSTART:19160430T230000
RDATE:19400401T020000
RDATE:19430329T020000
RDATE:19460414T020000
RDATE:19470406T030000
RDATE:19480418T020000
RDATE:19490410T020000
RDATE:19800406T020000
END:DAYLIGHT
BEGIN:STANDARD
TZNAME:CET
TZOFFSETFROM:+0200
TZOFFSETTO:+0100
DTSTART:19161001T010000
RDATE:19421102T030000
RDATE:19431004T030000
RDATE:19441002T030000
RDATE:19451118T030000
RDATE:19461007T030000
END:STANDARD
BEGIN:DAYLIGHT
TZNAME:CEST
TZOFFSETFROM:+0100
TZOFFSETTO:+0200
DTSTART:19170416T020000
RRULE:FREQ=YEARLY;UNTIL=19180415T010000Z;BYMONTH=4;BYDAY=3MO
END:DAYLIGHT
BEGIN:STANDARD
TZNAME:CET
TZOFFSETFROM:+0200
TZOFFSETTO:+0100
DTSTART:19170917T030000
RRULE:FREQ=YEARLY;UNTIL=19180916T010000Z;BYMONTH=9;BYDAY=3MO
END:STANDARD
BEGIN:DAYLIGHT
TZNAME:CEST
TZOFFSETFROM:+0100
TZOFFSETTO:+0200
DTSTART:19440403T020000
RRULE:FREQ=YEARLY;UNTIL=19450402T010000Z;BYMONTH=4;BYDAY=1MO
END:DAYLIGHT
BEGIN:DAYLIGHT
TZNAME:CEMT
TZOFFSETFROM:+0200
TZOFFSETTO:+0300
DTSTART:19450524T020000
RDATE:19470511T030000
END:DAYLIGHT
BEGIN:DAYLIGHT
TZNAME:CEST
TZOFFSETFROM:+0300
TZOFFSETTO:+0200
DTSTART:19450924T030000
RDATE:19470629T030000
END:DAYLIGHT
BEGIN:STANDARD
TZNAME:CET
TZOFFSETFROM:+0100
TZOFFSETTO:+0100
DTSTART:19460101T000000
RDATE:19800101T000000
END:STANDARD
BEGIN:STANDARD
TZNAME:CET
TZOFFSETFROM:+0200
TZOFFSETTO:+0100
DTSTART:19471005T030000
RRULE:FREQ=YEARLY;UNTIL=19491002T010000Z;BYMONTH=10;BYDAY=1SU
END:STANDARD
BEGIN:STANDARD
TZNAME:CET
TZOFFSETFROM:+0200
TZOFFSETTO:+0100
DTSTART:19800928T030000
RRULE:FREQ=YEARLY;UNTIL=19950924T010000Z;BYMONTH=9;BYDAY=-1SU
END:STANDARD
BEGIN:DAYLIGHT
TZNAME:CEST
TZOFFSETFROM:+0100
TZOFFSETTO:+0200
DTSTART:19810329T020000
RRULE:FREQ=YEARLY;BYMONTH=3;BYDAY=-1SU
END:DAYLIGHT
BEGIN:STANDARD
TZNAME:CET
TZOFFSETFROM:+0200
TZOFFSETTO:+0100
DTSTART:19961027T030000
RRULE:FREQ=YEARLY;BYMONTH=10;BYDAY=-1SU
END:STANDARD
END:VTIMEZONE
BEGIN:VEVENT
DTSTAMP:20260421T124321Z
DTSTART;TZID=Europe/Berlin:20260611T170000
DTEND;TZID=Europe/Berlin:20260611T183000
SUMMARY:Gesprächskreis: Demenz - \"Was ist mit mir?!\"
CREATED:20260421T080611Z
LAST-MODIFIED:20260421T084544Z
DESCRIPTION:Ein Ort für Austausch\, Verständnis und Unterstützung. Dieser
  Gesprächskreis richtet sich an:\n\n* Angehörige\, Betreuende\, Begleite
 nde und Pflegende\n* Alle\, die sich für das Thema interessieren\n\nGeme
 insam sprechen wir über Erfahrungen und Herausforderungen rund um das Th
 ema Demenz.\nBegleitet und moderiert wird der Kreis von erfahrenen Fach-
  und Leitungskräften unseres Geronto-Wohnbereichs.\n\nDie Teilnahme ist 
 kostenfrei.\nFür eine bessere Planung bitten wir um vorherige Anmeldung.
 
LOCATION:AGAPLESION HAUS JOHANNES
X-LOCATION-NAME:AGAPLESION HAUS JOHANNES
X-STREET-ADDRESS:Kolpingstr. 2
X-POSTAL-CODE:64646
X-LOCALITY:Heppenheim
ORGANIZER;CN="HDV gemeinnützige GmbH":mailto:Benedita.Ribeiro@agaplesion.
 de
X-ORGANIZER-NAME:HDV gemeinnützige GmbH 
X-ORGANIZER-EMAIL:Benedita.Ribeiro@agaplesion.de
X-ORGANIZER-TELEPHONE:06252-944620
X-ORGANIZER-WEBSITE:https://www.hdv.agaplesion.de/
X-ORGANIZER-ADDRESS-POSTALCODE:64646
X-ORGANIZER-ADDRESS-LOCALITY:Heppenheim
X-ORGANIZER-ADDRESS-STREET:Kolpingstr. 2
X-ORGANIZER-GEO:49.639693\;8.6465986
CONTACT:Michaela Frank\,michaela.frank@ageplesion.de\,+496252944695
X-CONTACT-GIVEN-NAME:Michaela
X-CONTACT-FAMILY-NAME:Frank
X-CONTACT-EMAIL:michaela.frank@ageplesion.de
X-CONTACT-TELEPHONE:+496252944695
X-IONAS-CATEGORY:Veranstaltung
CATEGORIES:Veranstaltung
ATTACH;FMTTYPE=image/jpeg:https://www.heppenheim.de/kalender/2026/juni/20
 26-06-11-gespraechskreis-demenz-was-ist-mit-mir/agaplesion-haus-johannes
 -wohnen-pflegen-rgb-blau-rgb-blau-hoch.jpg?cid=728.1r1q
UID:f8808907-0e94-49d1-bc33-ed891c8e0c22:2026-06-11
END:VEVENT
END:VCALENDAR
