BEGIN:VCALENDAR
PRODID:-//IONAS//TVM//DE
VERSION:2.0
CALSCALE:GREGORIAN
BEGIN:VTIMEZONE
TZID:Europe/Berlin
LAST-MODIFIED:20201010T011803Z
TZURL:http://tzurl.org/zoneinfo/Europe/Berlin
X-LIC-LOCATION:Europe/Berlin
X-PROLEPTIC-TZNAME:LMT
BEGIN:STANDARD
TZNAME:CET
TZOFFSETFROM:+005328
TZOFFSETTO:+0100
DTSTART:18930401T000000
END:STANDARD
BEGIN:DAYLIGHT
TZNAME:CEST
TZOFFSETFROM:+0100
TZOFFSETTO:+0200
DTSTART:19160430T230000
RDATE:19400401T020000
RDATE:19430329T020000
RDATE:19460414T020000
RDATE:19470406T030000
RDATE:19480418T020000
RDATE:19490410T020000
RDATE:19800406T020000
END:DAYLIGHT
BEGIN:STANDARD
TZNAME:CET
TZOFFSETFROM:+0200
TZOFFSETTO:+0100
DTSTART:19161001T010000
RDATE:19421102T030000
RDATE:19431004T030000
RDATE:19441002T030000
RDATE:19451118T030000
RDATE:19461007T030000
END:STANDARD
BEGIN:DAYLIGHT
TZNAME:CEST
TZOFFSETFROM:+0100
TZOFFSETTO:+0200
DTSTART:19170416T020000
RRULE:FREQ=YEARLY;UNTIL=19180415T010000Z;BYMONTH=4;BYDAY=3MO
END:DAYLIGHT
BEGIN:STANDARD
TZNAME:CET
TZOFFSETFROM:+0200
TZOFFSETTO:+0100
DTSTART:19170917T030000
RRULE:FREQ=YEARLY;UNTIL=19180916T010000Z;BYMONTH=9;BYDAY=3MO
END:STANDARD
BEGIN:DAYLIGHT
TZNAME:CEST
TZOFFSETFROM:+0100
TZOFFSETTO:+0200
DTSTART:19440403T020000
RRULE:FREQ=YEARLY;UNTIL=19450402T010000Z;BYMONTH=4;BYDAY=1MO
END:DAYLIGHT
BEGIN:DAYLIGHT
TZNAME:CEMT
TZOFFSETFROM:+0200
TZOFFSETTO:+0300
DTSTART:19450524T020000
RDATE:19470511T030000
END:DAYLIGHT
BEGIN:DAYLIGHT
TZNAME:CEST
TZOFFSETFROM:+0300
TZOFFSETTO:+0200
DTSTART:19450924T030000
RDATE:19470629T030000
END:DAYLIGHT
BEGIN:STANDARD
TZNAME:CET
TZOFFSETFROM:+0100
TZOFFSETTO:+0100
DTSTART:19460101T000000
RDATE:19800101T000000
END:STANDARD
BEGIN:STANDARD
TZNAME:CET
TZOFFSETFROM:+0200
TZOFFSETTO:+0100
DTSTART:19471005T030000
RRULE:FREQ=YEARLY;UNTIL=19491002T010000Z;BYMONTH=10;BYDAY=1SU
END:STANDARD
BEGIN:STANDARD
TZNAME:CET
TZOFFSETFROM:+0200
TZOFFSETTO:+0100
DTSTART:19800928T030000
RRULE:FREQ=YEARLY;UNTIL=19950924T010000Z;BYMONTH=9;BYDAY=-1SU
END:STANDARD
BEGIN:DAYLIGHT
TZNAME:CEST
TZOFFSETFROM:+0100
TZOFFSETTO:+0200
DTSTART:19810329T020000
RRULE:FREQ=YEARLY;BYMONTH=3;BYDAY=-1SU
END:DAYLIGHT
BEGIN:STANDARD
TZNAME:CET
TZOFFSETFROM:+0200
TZOFFSETTO:+0100
DTSTART:19961027T030000
RRULE:FREQ=YEARLY;BYMONTH=10;BYDAY=-1SU
END:STANDARD
END:VTIMEZONE
BEGIN:VEVENT
DTSTAMP:20260421T022148Z
DTSTART;TZID=Europe/Berlin:20260720T093000
DTEND;TZID=Europe/Berlin:20260801T153000
SUMMARY:Sommerferienspiele
CREATED:20260204T144927Z
LAST-MODIFIED:20260204T150753Z
DESCRIPTION:Die Sommerferienspiele finden jedes Jahr in der 4. und 5. Fer
 ienwoche statt.\n\nDas Programm findet für Kinder und Jugendliche täglic
 h von ca. 9:30-15:30 Uhr statt. Die Kosten belaufen sich auf 110€ für be
 ide Wochen. Eine Anmeldung ist ab ca. 8 Wochen vorher möglich. Genauere 
 Informationen finden Sie im Online-Portal.\n\nZudem gibt es in der 1. bi
 s zur 3. Sommerferienwoche ein umfangreiches Programm mit verschiedenen 
 Angeboten und Ausflügen. Nähere Infos gibt es kurz vor den Ferien im Onl
 ine-Portal.
LOCATION:Marktplatz
X-LOCATION-NAME:Marktplatz
X-STREET-ADDRESS:Großer Markt 1
X-POSTAL-CODE:64646
X-LOCALITY:Heppenheim
ORGANIZER;CN=Jugendzentrum Oase:mailto:jugendfoerderung@stadt.heppenheim.
 de
X-ORGANIZER-NAME:Jugendzentrum Oase
X-ORGANIZER-EMAIL:jugendfoerderung@stadt.heppenheim.de
X-ORGANIZER-TELEPHONE:0625274258
X-ORGANIZER-WEBSITE:https://www.unser-ferienprogramm.de/heppenheim/index.
 php
CONTACT:jugendfoerderung@stadt.heppenheim.de
X-CONTACT-EMAIL:jugendfoerderung@stadt.heppenheim.de
URL:https://www.heppenheim.de/leben-in-heppenheim/familien/jugendfoerderu
 ng/ferienangebote/
X-IONAS-CATEGORY:Veranstaltung
CATEGORIES:Veranstaltung,Jugendförderung
ATTACH;FMTTYPE=image/jpeg;X-COPYRIGHT=freepik:https://www.heppenheim.de/k
 alender/2026/juli/2026-07-20-sommerferienspiele/jugendfoerderung-kinder.
 jpg?cid=6vo.1o66
UID:3c5f16f2-9508-4ba1-b099-5a24404c6e05:2026-07-20
END:VEVENT
END:VCALENDAR
