BEGIN:VCALENDAR
PRODID:-//IONAS//TVM//DE
VERSION:2.0
CALSCALE:GREGORIAN
BEGIN:VTIMEZONE
TZID:Europe/Berlin
LAST-MODIFIED:20201010T011803Z
TZURL:http://tzurl.org/zoneinfo/Europe/Berlin
X-LIC-LOCATION:Europe/Berlin
X-PROLEPTIC-TZNAME:LMT
BEGIN:STANDARD
TZNAME:CET
TZOFFSETFROM:+005328
TZOFFSETTO:+0100
DTSTART:18930401T000000
END:STANDARD
BEGIN:DAYLIGHT
TZNAME:CEST
TZOFFSETFROM:+0100
TZOFFSETTO:+0200
DTSTART:19160430T230000
RDATE:19400401T020000
RDATE:19430329T020000
RDATE:19460414T020000
RDATE:19470406T030000
RDATE:19480418T020000
RDATE:19490410T020000
RDATE:19800406T020000
END:DAYLIGHT
BEGIN:STANDARD
TZNAME:CET
TZOFFSETFROM:+0200
TZOFFSETTO:+0100
DTSTART:19161001T010000
RDATE:19421102T030000
RDATE:19431004T030000
RDATE:19441002T030000
RDATE:19451118T030000
RDATE:19461007T030000
END:STANDARD
BEGIN:DAYLIGHT
TZNAME:CEST
TZOFFSETFROM:+0100
TZOFFSETTO:+0200
DTSTART:19170416T020000
RRULE:FREQ=YEARLY;UNTIL=19180415T010000Z;BYMONTH=4;BYDAY=3MO
END:DAYLIGHT
BEGIN:STANDARD
TZNAME:CET
TZOFFSETFROM:+0200
TZOFFSETTO:+0100
DTSTART:19170917T030000
RRULE:FREQ=YEARLY;UNTIL=19180916T010000Z;BYMONTH=9;BYDAY=3MO
END:STANDARD
BEGIN:DAYLIGHT
TZNAME:CEST
TZOFFSETFROM:+0100
TZOFFSETTO:+0200
DTSTART:19440403T020000
RRULE:FREQ=YEARLY;UNTIL=19450402T010000Z;BYMONTH=4;BYDAY=1MO
END:DAYLIGHT
BEGIN:DAYLIGHT
TZNAME:CEMT
TZOFFSETFROM:+0200
TZOFFSETTO:+0300
DTSTART:19450524T020000
RDATE:19470511T030000
END:DAYLIGHT
BEGIN:DAYLIGHT
TZNAME:CEST
TZOFFSETFROM:+0300
TZOFFSETTO:+0200
DTSTART:19450924T030000
RDATE:19470629T030000
END:DAYLIGHT
BEGIN:STANDARD
TZNAME:CET
TZOFFSETFROM:+0100
TZOFFSETTO:+0100
DTSTART:19460101T000000
RDATE:19800101T000000
END:STANDARD
BEGIN:STANDARD
TZNAME:CET
TZOFFSETFROM:+0200
TZOFFSETTO:+0100
DTSTART:19471005T030000
RRULE:FREQ=YEARLY;UNTIL=19491002T010000Z;BYMONTH=10;BYDAY=1SU
END:STANDARD
BEGIN:STANDARD
TZNAME:CET
TZOFFSETFROM:+0200
TZOFFSETTO:+0100
DTSTART:19800928T030000
RRULE:FREQ=YEARLY;UNTIL=19950924T010000Z;BYMONTH=9;BYDAY=-1SU
END:STANDARD
BEGIN:DAYLIGHT
TZNAME:CEST
TZOFFSETFROM:+0100
TZOFFSETTO:+0200
DTSTART:19810329T020000
RRULE:FREQ=YEARLY;BYMONTH=3;BYDAY=-1SU
END:DAYLIGHT
BEGIN:STANDARD
TZNAME:CET
TZOFFSETFROM:+0200
TZOFFSETTO:+0100
DTSTART:19961027T030000
RRULE:FREQ=YEARLY;BYMONTH=10;BYDAY=-1SU
END:STANDARD
END:VTIMEZONE
BEGIN:VEVENT
DTSTAMP:20260425T105037Z
DTSTART;TZID=Europe/Berlin:20260428T200000
DTEND;TZID=Europe/Berlin:20260428T235959
SUMMARY:„Der Drache fliegt -- Raumfahrt in Asien“
CREATED:20260421T133627Z
LAST-MODIFIED:20260421T133627Z
DESCRIPTION:Im Schatten der US-amerikanischen Raumfahrt hat sich in den l
 etzten Jahren die asiatische Raumfahrt stark weiterentwickelt. \nIn groß
 en Schritten haben einige Länder\, unter anderem China\, ihre Weltraumpr
 ogramme vorangebracht. Nicht nur die robotische Raumfahrt mit Flügen zum
  Mond und Mars\, sondern auch die bemannte Raumfahrt hat sehr ehrgeizige
  Ziele. Eigene Raumstationen und der bemannte Flug zum Mond stehen in de
 n Programmen. Ebenso Beteiligungen an der Internationalen Raumstation (I
 SS) und am geplanten Lunar Gateway zeugen von den großen Plänen in Asien
 .\nDer Referent\, Martin Bender von der Starkenburg-Sternwarte\, wird im
  Vortrag verschiedene asiatische Raumfahrtprogramme vorstellen.
LOCATION:Starkenburg-Sternwarte
X-LOCATION-NAME:Starkenburg-Sternwarte
X-STREET-ADDRESS:Starkenburgweg 41
X-POSTAL-CODE:64646
X-LOCALITY:Heppenheim
ORGANIZER;CN=Starkenburg-Sternwarte e.V.:mailto:info@starkenburg-sternwar
 te.de
X-ORGANIZER-NAME:Starkenburg-Sternwarte e.V.
X-ORGANIZER-EMAIL:info@starkenburg-sternwarte.de
X-ORGANIZER-TELEPHONE:+491793254979
X-ORGANIZER-WEBSITE:https://www.starkenburg-sternwarte.de/
X-ORGANIZER-ADDRESS-POSTALCODE:64646
X-ORGANIZER-ADDRESS-LOCALITY:Heppenheim
X-ORGANIZER-ADDRESS-STREET:Niemöllerstr. 9 Starkenburgweg
CONTACT:info@starkenburg-sternwarte.de\,+491793254979
X-CONTACT-EMAIL:info@starkenburg-sternwarte.de
X-CONTACT-TELEPHONE:+491793254979
X-CONTACT-MOBILE:+491793254979
URL:https://www.starkenburg-sternwarte.de/vortragsprogramm/
X-IONAS-CATEGORY:Veranstaltung
CATEGORIES:Veranstaltung,Vortrag
UID:497f244a-c0c5-43d7-854a-9398a6f1d3bb:2026-04-28
X-PRICE:Keine Angabe
END:VEVENT
END:VCALENDAR
